BEGIN:VCALENDAR
VERSION:2.0
PRODID:-//Ozarks International Raceway - ECPv6.15.20//NONSGML v1.0//EN
CALSCALE:GREGORIAN
METHOD:PUBLISH
X-ORIGINAL-URL:https://ozarksinternationalraceway.com
X-WR-CALDESC:Events for Ozarks International Raceway
REFRESH-INTERVAL;VALUE=DURATION:PT1H
X-Robots-Tag:noindex
X-PUBLISHED-TTL:PT1H
BEGIN:VTIMEZONE
TZID:America/Chicago
BEGIN:DAYLIGHT
TZOFFSETFROM:-0600
TZOFFSETTO:-0500
TZNAME:CDT
DTSTART:20240310T080000
END:DAYLIGHT
BEGIN:STANDARD
TZOFFSETFROM:-0500
TZOFFSETTO:-0600
TZNAME:CST
DTSTART:20241103T070000
END:STANDARD
BEGIN:DAYLIGHT
TZOFFSETFROM:-0600
TZOFFSETTO:-0500
TZNAME:CDT
DTSTART:20250309T080000
END:DAYLIGHT
BEGIN:STANDARD
TZOFFSETFROM:-0500
TZOFFSETTO:-0600
TZNAME:CST
DTSTART:20251102T070000
END:STANDARD
BEGIN:DAYLIGHT
TZOFFSETFROM:-0600
TZOFFSETTO:-0500
TZNAME:CDT
DTSTART:20260308T080000
END:DAYLIGHT
BEGIN:STANDARD
TZOFFSETFROM:-0500
TZOFFSETTO:-0600
TZNAME:CST
DTSTART:20261101T070000
END:STANDARD
BEGIN:DAYLIGHT
TZOFFSETFROM:-0600
TZOFFSETTO:-0500
TZNAME:CDT
DTSTART:20270314T080000
END:DAYLIGHT
BEGIN:STANDARD
TZOFFSETFROM:-0500
TZOFFSETTO:-0600
TZNAME:CST
DTSTART:20271107T070000
END:STANDARD
END:VTIMEZONE
BEGIN:VEVENT
DTSTART;VALUE=DATE:20260417
DTEND;VALUE=DATE:20260420
DTSTAMP:20260422T122814
CREATED:20251230T232306Z
LAST-MODIFIED:20251230T232306Z
UID:3825-1776384000-1776643199@ozarksinternationalraceway.com
SUMMARY:ASRA Racing
DESCRIPTION:The thrilling riders of ASRA return for a full weekend of racing. Practice & racing school on Friday\, April 17th. Add this to your calendar today!!
URL:https://ozarksinternationalraceway.com/event/asra-racing-2026/
LOCATION:OIR
CATEGORIES:ASRA,Bikes,Racing
ATTACH;FMTTYPE=image/jpeg:https://ozarksinternationalraceway.com/wp-content/uploads/2025/08/8-1.jpg
END:VEVENT
BEGIN:VEVENT
DTSTART;TZID=America/Chicago:20250910T080000
DTEND;TZID=America/Chicago:20250914T170000
DTSTAMP:20260422T122814
CREATED:20250804T225805Z
LAST-MODIFIED:20250909T054300Z
UID:3760-1757491200-1757869200@ozarksinternationalraceway.com
SUMMARY:RevFest
DESCRIPTION:JOIN US AT OZARKS INTERNATIONAL RACEWAY FOR THIS PREMIER MOTORCYCLE RACING AND MOTORCYCLE FESTIVAL!\nRacing – Track Day – Training – Vendors – Concessions – Concerts –  Exhibits – Bike Show \nEvent Schedule Page\nEvolve GT Event Page\nASRA Event Page \nCamping is available during Bike Week! 100s of camping spots. RV lots and hookups available! \nTicket Information:\n\n\nWednesday – Thursday General Admission $10 / Person (Under 12 FREE)\n\n\nFriday – Saturday General Admission $40 / Person (Under 12 FREE)\n\n\nSunday General Admission $20 / Person (Under 12 FREE)\n\n\nFull Week General Admission Pass $6o per person\n\n\nSaturday – Sunday Pitts Pass: $50
URL:https://ozarksinternationalraceway.com/event/revfest/
LOCATION:OIR
CATEGORIES:ASRA,Evolve GT
END:VEVENT
END:VCALENDAR