BEGIN:VCALENDAR
VERSION:2.0
PRODID:-//Ozarks International Raceway - ECPv6.15.20//NONSGML v1.0//EN
CALSCALE:GREGORIAN
METHOD:PUBLISH
X-WR-CALNAME:Ozarks International Raceway
X-ORIGINAL-URL:https://ozarksinternationalraceway.com
X-WR-CALDESC:Events for Ozarks International Raceway
REFRESH-INTERVAL;VALUE=DURATION:PT1H
X-Robots-Tag:noindex
X-PUBLISHED-TTL:PT1H
BEGIN:VTIMEZONE
TZID:America/Chicago
BEGIN:DAYLIGHT
TZOFFSETFROM:-0600
TZOFFSETTO:-0500
TZNAME:CDT
DTSTART:20230312T080000
END:DAYLIGHT
BEGIN:STANDARD
TZOFFSETFROM:-0500
TZOFFSETTO:-0600
TZNAME:CST
DTSTART:20231105T070000
END:STANDARD
BEGIN:DAYLIGHT
TZOFFSETFROM:-0600
TZOFFSETTO:-0500
TZNAME:CDT
DTSTART:20240310T080000
END:DAYLIGHT
BEGIN:STANDARD
TZOFFSETFROM:-0500
TZOFFSETTO:-0600
TZNAME:CST
DTSTART:20241103T070000
END:STANDARD
BEGIN:DAYLIGHT
TZOFFSETFROM:-0600
TZOFFSETTO:-0500
TZNAME:CDT
DTSTART:20250309T080000
END:DAYLIGHT
BEGIN:STANDARD
TZOFFSETFROM:-0500
TZOFFSETTO:-0600
TZNAME:CST
DTSTART:20251102T070000
END:STANDARD
BEGIN:DAYLIGHT
TZOFFSETFROM:-0600
TZOFFSETTO:-0500
TZNAME:CDT
DTSTART:20260308T080000
END:DAYLIGHT
BEGIN:STANDARD
TZOFFSETFROM:-0500
TZOFFSETTO:-0600
TZNAME:CST
DTSTART:20261101T070000
END:STANDARD
END:VTIMEZONE
BEGIN:VEVENT
DTSTART;VALUE=DATE:20250627
DTEND;VALUE=DATE:20250630
DTSTAMP:20260422T174448
CREATED:20241130T060902Z
LAST-MODIFIED:20250625T201533Z
UID:3243-1750982400-1751241599@ozarksinternationalraceway.com
SUMMARY:Kart Racing U.S.A.
DESCRIPTION:Kart Racing U.S.A.
URL:https://ozarksinternationalraceway.com/event/kart-racing-u-s-a-2-2/
LOCATION:OIR
CATEGORIES:Kart Racing U.S.A,Racing
ATTACH;FMTTYPE=image/png:https://ozarksinternationalraceway.com/wp-content/uploads/2024/08/11.png
ORGANIZER;CN="Kart Racing  USA":MAILTO:david@kcdrayage.com
END:VEVENT
BEGIN:VEVENT
DTSTART;TZID=America/Chicago:20250621T080000
DTEND;TZID=America/Chicago:20250622T170000
DTSTAMP:20260422T174448
CREATED:20241130T055714Z
LAST-MODIFIED:20250417T212410Z
UID:3241-1750492800-1750611600@ozarksinternationalraceway.com
SUMMARY:Evolve GT Track Days
DESCRIPTION:Stop 3 for Evolve GT as they bring their highly successful motorbike track days back to Ozarks International Raceway in 2025. \nOther Dates:\nJuly 26 – July 27\nSeptember 11 – September 12
URL:https://ozarksinternationalraceway.com/event/evolve-gt-track-days-3/
CATEGORIES:Evolve GT,HPDE Track Time
ATTACH;FMTTYPE=image/png:https://ozarksinternationalraceway.com/wp-content/uploads/2024/09/12.png
ORGANIZER;CN="Evolve GT":MAILTO:support@evolvegt.com
END:VEVENT
BEGIN:VEVENT
DTSTART;VALUE=DATE:20250614
DTEND;VALUE=DATE:20250616
DTSTAMP:20260422T174448
CREATED:20241108T205757Z
LAST-MODIFIED:20241108T205757Z
UID:3218-1749859200-1750031999@ozarksinternationalraceway.com
SUMMARY:PSI Motorsports 2 Track Day
DESCRIPTION:PSI Motorsports stop 2 of 2025 features some of the best time to get on track with your high performance vehicle.
URL:https://ozarksinternationalraceway.com/event/psi-motorsports-2-2025/
LOCATION:OIR
CATEGORIES:HPDE Track Time,PSI Motorsports USA
ATTACH;FMTTYPE=image/png:https://ozarksinternationalraceway.com/wp-content/uploads/2024/08/19.png
ORGANIZER;CN="PSI Motorsports USA":MAILTO:PSImotorsportsUSA@gmail.com
END:VEVENT
BEGIN:VEVENT
DTSTART;TZID=America/Chicago:20250607T120000
DTEND;TZID=America/Chicago:20250607T210000
DTSTAMP:20260422T174448
CREATED:20241130T055605Z
LAST-MODIFIED:20250328T203701Z
UID:3239-1749297600-1749330000@ozarksinternationalraceway.com
SUMMARY:Precision DRIFT 2
DESCRIPTION:  \nStop 2 of Precision Drift at Ozarks International Raceway\, featuring Reaction Motorsports Events and Drift NWA happening June 7.\n\n-Paid ride-along for spectators available in the pits handled by individual drivers.\n-Food Trucks on site\n-Layout will be setup FD/pro-spec style with outer zone and inner clip markings and clipping points.\n-Tire Machine available on site\n-$20 spectator/car show entry fee at the gate | 12 & Under are FREE\n\nDRIVERS – PLEASE view our rules and tech inspection requirements listed on our website under the RULES tab. https://www.precisiondriftkc.com/\n\nNO REFUNDS. Event is RAIN OR SHINE.
URL:https://ozarksinternationalraceway.com/event/precision-drift-2/
LOCATION:OIR
CATEGORIES:Precision DRIFT
ATTACH;FMTTYPE=image/png:https://ozarksinternationalraceway.com/wp-content/uploads/2024/09/27.png
ORGANIZER;CN="Precision Drift":MAILTO:precisiondriftkc@gmail.com
END:VEVENT
BEGIN:VEVENT
DTSTART;TZID=America/Chicago:20250531T080000
DTEND;TZID=America/Chicago:20250601T170000
DTSTAMP:20260422T174448
CREATED:20241130T055424Z
LAST-MODIFIED:20250417T212739Z
UID:3237-1748678400-1748797200@ozarksinternationalraceway.com
SUMMARY:Evolve GT Track Days
DESCRIPTION:Stop 2 of Evolve GT as they bring their highly successful motorbike track days back to Ozarks International Raceway for 2025. \nOther Dates:\nJune 21 – June 22\nJuly 26 – July 27\nSeptember 11 – September 12
URL:https://ozarksinternationalraceway.com/event/evolve-gt-track-days-2/
CATEGORIES:Evolve GT,HPDE Track Time
ATTACH;FMTTYPE=image/png:https://ozarksinternationalraceway.com/wp-content/uploads/2024/09/4.png
ORGANIZER;CN="Evolve GT":MAILTO:support@evolvegt.com
END:VEVENT
BEGIN:VEVENT
DTSTART;VALUE=DATE:20250523
DTEND;VALUE=DATE:20250526
DTSTAMP:20260422T174448
CREATED:20230223T205159Z
LAST-MODIFIED:20250401T191348Z
UID:2289-1747958400-1748217599@ozarksinternationalraceway.com
SUMMARY:Mustang Club of America Ponies in the Ozarks National Show and Track Event
DESCRIPTION:Mustang Club of America Ponies in the Ozarks Car Show and Track Time returns to the Ozarks Memorial Day Weekend in 2025. \nMustang Club of America car show\nHDPE Track days (Open to All Makes and Models)\nParade Laps\nCar Show Signup Link \nHPDE Track Time Sign Up
URL:https://ozarksinternationalraceway.com/event/mustang-club-of-america-show-2025/
LOCATION:OIR
CATEGORIES:HPDE Track Time,Mustang Club of America
ATTACH;FMTTYPE=image/png:https://ozarksinternationalraceway.com/wp-content/uploads/2024/08/17.png
ORGANIZER;CN="Mustang Club of America":MAILTO:mcaofficeadministrator@mustang.org
END:VEVENT
BEGIN:VEVENT
DTSTART;VALUE=DATE:20250517
DTEND;VALUE=DATE:20250519
DTSTAMP:20260422T174448
CREATED:20241130T054847Z
LAST-MODIFIED:20250319T150325Z
UID:3234-1747440000-1747612799@ozarksinternationalraceway.com
SUMMARY:Chin Track Days
DESCRIPTION:Chins Gold Standard High Performance Track Days\nHDPE (all makes welcome)\nThe “Missouri-Ring”! YOU. MUST. DRIVE. THIS. TRACK.
URL:https://ozarksinternationalraceway.com/event/chin-track-days-1/
LOCATION:OIR
CATEGORIES:Chin Track Days,HPDE Track Time
ATTACH;FMTTYPE=image/png:https://ozarksinternationalraceway.com/wp-content/uploads/2024/09/30.png
END:VEVENT
BEGIN:VEVENT
DTSTART;TZID=America/Chicago:20250510T080000
DTEND;TZID=America/Chicago:20250511T170000
DTSTAMP:20260422T174448
CREATED:20241130T054653Z
LAST-MODIFIED:20250417T212755Z
UID:3232-1746864000-1746982800@ozarksinternationalraceway.com
SUMMARY:Evolve GT Track Days
DESCRIPTION:Evolve GT brings their highly successful motorbike track days back to Ozarks International Raceway. \nOther Dates:\nMay 31 – June 1\nJune 21 – June 22\nJuly 26 – July 27\nSeptember 11 – September 12
URL:https://ozarksinternationalraceway.com/event/evolve-gt-1/
CATEGORIES:Evolve GT,HPDE Track Time
ATTACH;FMTTYPE=image/png:https://ozarksinternationalraceway.com/wp-content/uploads/2024/09/13.png
ORGANIZER;CN="Evolve GT":MAILTO:support@evolvegt.com
END:VEVENT
BEGIN:VEVENT
DTSTART;VALUE=DATE:20250503
DTEND;VALUE=DATE:20250505
DTSTAMP:20260422T174448
CREATED:20241106T054821Z
LAST-MODIFIED:20241106T054821Z
UID:3212-1746230400-1746403199@ozarksinternationalraceway.com
SUMMARY:PSI Motorsports Track Day/Race School
DESCRIPTION:PSI Motorsports returns in 2025 with stop 1 of the year. Racing school and HPDE track time available. Track time like no other.
URL:https://ozarksinternationalraceway.com/event/psi-motorsports-1-2025/
LOCATION:OIR
CATEGORIES:HPDE Track Time,PSI Motorsports USA
ATTACH;FMTTYPE=image/png:https://ozarksinternationalraceway.com/wp-content/uploads/2024/08/19.png
ORGANIZER;CN="PSI Motorsports USA":MAILTO:PSImotorsportsUSA@gmail.com
END:VEVENT
BEGIN:VEVENT
DTSTART;VALUE=DATE:20250425
DTEND;VALUE=DATE:20250428
DTSTAMP:20260422T174448
CREATED:20240116T223523Z
LAST-MODIFIED:20250417T212906Z
UID:2741-1745539200-1745798399@ozarksinternationalraceway.com
SUMMARY:Porsche Club of America
DESCRIPTION:Porsche Club of America | Driver’s Education | April 25-27\nOur instructors will teach you how to drive your Car on the track . DE provides a perfect chance to hit the track within a secure\, controlled setting. As you dive into the exhilarating world of high-performance driving\, your instructor will be right there to guide you. These events are not just about driving; they’re experiences that will leave you with stories to share and vivid memories of navigating challenging turns\, all while hearing your instructor’s timely advice to “BRAKE” or “DON’T LIFT.” DE offers a unique\, safe environment to understand the intricate engineering behind our renowned racing brand. There are no rankings\, or trophies\, but we promise you’ll have plenty of fun.
URL:https://ozarksinternationalraceway.com/event/porsche-club-of-america-april/
LOCATION:OIR
CATEGORIES:HPDE Track Time,Porsche Club of America
ATTACH;FMTTYPE=image/png:https://ozarksinternationalraceway.com/wp-content/uploads/2024/08/39.png
END:VEVENT
BEGIN:VEVENT
DTSTART;TZID=America/Chicago:20250419T120000
DTEND;TZID=America/Chicago:20250419T200000
DTSTAMP:20260422T174448
CREATED:20240703T155658Z
LAST-MODIFIED:20250228T153709Z
UID:3033-1745064000-1745092800@ozarksinternationalraceway.com
SUMMARY:Precision DRIFT 1
DESCRIPTION:Precision Drift presents the 2025 Ozarks International Raceway Drift Season Opener! Join us on April 19th at this incredible venue in the heart of the Ozarks for a full day of drifting\, vendors\, food trucks\, and an epic car show with Sonic Summer Nights. All drivers and car show participants also have the opportunity to get on the Raceway for a full parade lap around this 4 mile road course.\nDriver tickets\, media\, and vendor applications available on our website.\nhttps://www.precisiondriftkc.com\n-$20 spectator/car show entry fee at the gate | Kids 12 & Under are FREE.-Paid ride-alongs for spectators available in the pits handled by individual drivers. All ride-alongs must wear a helmet.-Food Trucks -Vendors\nSCHEDULE :Gates open at 8AMTech Inspection 8:30AM – 10:30AMMandatory Drivers Meeting at 10:30AMMandatory Approved Media Meeting at 10:45AMTrack HOT from 11AM-9PMCar Show from 2PM – 9PMFull Road Course parade laps for drivers & car show participants 4-4:30PM\n-Zones and Clipping Points -Tire Machine available on site-On-site camping Saturday night-Drivers may purchase a personal garage space\n\n\nDRIVERS – PLEASE view our rules and tech inspection requirements listed on our website under the RULES tab. https://www.precisiondriftkc.com/\n\nNO REFUNDS. Event is RAIN OR SHINE.
URL:https://ozarksinternationalraceway.com/event/precision-drift-2025-1/
LOCATION:OIR
CATEGORIES:Precision DRIFT
ATTACH;FMTTYPE=image/png:https://ozarksinternationalraceway.com/wp-content/uploads/2024/09/21.png
ORGANIZER;CN="Precision Drift":MAILTO:precisiondriftkc@gmail.com
END:VEVENT
BEGIN:VEVENT
DTSTART;VALUE=DATE:20250411
DTEND;VALUE=DATE:20250414
DTSTAMP:20260422T174448
CREATED:20241028T200812Z
LAST-MODIFIED:20250227T214848Z
UID:3196-1744329600-1744588799@ozarksinternationalraceway.com
SUMMARY:NASA MidAmerica feat. Mid South & Rocky Mountain
DESCRIPTION:NASA’s Great Lakes\, Mid South and Rocky Mountain Crossover Event\nJoin NASA MidAmerica at the amazing Ozarks International Raceway! This 3 day event has track time for everyone! Get your Competition (W2W) Racing License at this event.\nHigh Performance Driver Education Time TrialW2W RacingTREC Endurance RacingTrack Day on Friday\, 3+ hours track timeComp School on Friday\, April 11\nOzarks International Raceway is a technical yet highly energizing and fun racetrack. This 4 mile beauty is FIA rated and an absolute blast to drive.You will leave here a better driver and feeling more challenged than ever. 1000’s of drivers/cars have come thru our programs.Get ready for the thrill ride of your life!Register at: https://members.drivenasa.com/events?region_id=27\nDrivenasa.com\, Email: dlane@drivenasa.com
URL:https://ozarksinternationalraceway.com/event/nasa-midamerica-2025-1/
LOCATION:OIR
CATEGORIES:HPDE Track Time,NASA MidAmerica,Racing
ATTACH;FMTTYPE=image/jpeg:https://ozarksinternationalraceway.com/wp-content/uploads/2024/03/DSC02644-UPDATE-scaled.jpg
END:VEVENT
BEGIN:VEVENT
DTSTART;VALUE=DATE:20241026
DTEND;VALUE=DATE:20241028
DTSTAMP:20260422T174448
CREATED:20230223T213840Z
LAST-MODIFIED:20240118T012640Z
UID:2310-1729900800-1730073599@ozarksinternationalraceway.com
SUMMARY:Ozarks HPDE with PSI Motorsports 4
DESCRIPTION:HDPE Track Day (All makes and models welcome ) \nParade Laps
URL:https://ozarksinternationalraceway.com/event/psi-motorsports/
LOCATION:OIR
ORGANIZER;CN="PSI Motorsports USA":MAILTO:PSImotorsportsUSA@gmail.com
END:VEVENT
BEGIN:VEVENT
DTSTART;VALUE=DATE:20241004
DTEND;VALUE=DATE:20241007
DTSTAMP:20260422T174448
CREATED:20230223T204224Z
LAST-MODIFIED:20240118T003836Z
UID:2283-1728000000-1728259199@ozarksinternationalraceway.com
SUMMARY:Championship Enduro Karting
DESCRIPTION:Championship Enduro Series Racing
URL:https://ozarksinternationalraceway.com/event/championship-enduro-karting/
LOCATION:OIR
ORGANIZER;CN="Kart Racing  USA":MAILTO:david@kcdrayage.com
END:VEVENT
BEGIN:VEVENT
DTSTART;VALUE=DATE:20240914
DTEND;VALUE=DATE:20240916
DTSTAMP:20260422T174448
CREATED:20230223T205031Z
LAST-MODIFIED:20240118T005412Z
UID:2287-1726272000-1726444799@ozarksinternationalraceway.com
SUMMARY:Chin Track Days
DESCRIPTION:Chins Gold Standard High Performance Track Days\nHDPE (all makes welcome)\nThe “Missouri-Ring”! YOU. MUST. DRIVE. THIS. TRACK.
URL:https://ozarksinternationalraceway.com/event/chin-track-days-2/
LOCATION:OIR
END:VEVENT
BEGIN:VEVENT
DTSTART;TZID=America/Chicago:20240913T080000
DTEND;TZID=America/Chicago:20240913T170000
DTSTAMP:20260422T174448
CREATED:20240731T143857Z
LAST-MODIFIED:20240808T221705Z
UID:3049-1726214400-1726246800@ozarksinternationalraceway.com
SUMMARY:Evolve GT Track Days
DESCRIPTION:Evolve GT brings their highly successful motorbike track days to Ozarks International Raceway Friday\, September 13th.
URL:https://ozarksinternationalraceway.com/event/evolve-gt-track-days/
ORGANIZER;CN="Evolve GT":MAILTO:support@evolvegt.com
END:VEVENT
BEGIN:VEVENT
DTSTART;VALUE=DATE:20240823
DTEND;VALUE=DATE:20240825
DTSTAMP:20260422T174448
CREATED:20240513T222032Z
LAST-MODIFIED:20240513T222032Z
UID:3006-1724371200-1724543999@ozarksinternationalraceway.com
SUMMARY:PSI Motorsports 3 Evening/Night
DESCRIPTION:Event will start on friday at 1 pm and track will be hot till 9 pm on both days. Come and Experience one of the best race tracks in the USA. PSI Motorsports USA proudly announces another open track day for Hpde and race car drivers. If you’re looking for a lot of seat time at a new roller coaster-style race track\, don’t miss August 23-24. We will have only 3 groups: advanced\, intermediate\, and beginners. 30-minute sessions will give you over 2.5 hours of track time each day. Our classroom will be available for novice drivers. Come and learn how to drive your sports car on the best driver race track in the country. Free garages for the first 40 participants. The offer expires on June 1\, so hurry up and get registered! We will have a great time with food and music. This event is just missing you! Laps around the track in a variety of a cars/
URL:https://ozarksinternationalraceway.com/event/psi-motorsports-3-evening-night/
ORGANIZER;CN="PSI Motorsports USA":MAILTO:PSImotorsportsUSA@gmail.com
END:VEVENT
BEGIN:VEVENT
DTSTART;VALUE=DATE:20240810
DTEND;VALUE=DATE:20240812
DTSTAMP:20260422T174448
CREATED:20230223T201531Z
LAST-MODIFIED:20241130T061823Z
UID:2273-1723248000-1723420799@ozarksinternationalraceway.com
SUMMARY:ChampCar Endurance Series
DESCRIPTION:
URL:https://ozarksinternationalraceway.com/event/champcar-endurance-series/
LOCATION:OIR
ORGANIZER;CN="ChampCar Endurance Series":MAILTO:media@champcar.com
END:VEVENT
BEGIN:VEVENT
DTSTART;VALUE=DATE:20240803
DTEND;VALUE=DATE:20240805
DTSTAMP:20260422T174448
CREATED:20240524T171330Z
LAST-MODIFIED:20240725T011826Z
UID:3010-1722643200-1722815999@ozarksinternationalraceway.com
SUMMARY:KC Porsche Club of America Driver’s Education and PCA National Instructor Training School
DESCRIPTION:Join us for an exhilarating two-day Porsche Driver’s Education and PCA National Instructor Training School at the renowned Ozarks International Raceway. This event caters to Intermediate and Advanced Solo drivers as well as those aspiring to become PCA DE Instructors. Attendees will benefit from specialized track-specific training led by experienced instructors and racers\, including James and JR Pesek\, the track owners\, who boast over 500 in-car laps at OIR. This unique opportunity promises to enhance your driving skills and deepen your knowledge of this challenging circuit\, ensuring a comprehensive and thrilling learning experience. \nGarages are available on a first come\, first served bases for $150 for the weekend. \n\n\n\n\nDon’t miss this chance to elevate your driving expertise and become part of an elite group of Porsche racing enthusiasts—sign up now and secure your spot on the track!
URL:https://ozarksinternationalraceway.com/event/kc-porsche-club-of-america2/
LOCATION:OIR
END:VEVENT
BEGIN:VEVENT
DTSTART;VALUE=DATE:20240719
DTEND;VALUE=DATE:20240722
DTSTAMP:20260422T174448
CREATED:20230223T212555Z
LAST-MODIFIED:20240117T233449Z
UID:2302-1721347200-1721606399@ozarksinternationalraceway.com
SUMMARY:NASA Mid America Grand Prix At OIR
DESCRIPTION:Friday Track-day \nHigh Performance Drivers Education \nTime Trails \nCompetition School \nW2W Sanctioned Racing 
URL:https://ozarksinternationalraceway.com/event/nasa-midamerica-2/
LOCATION:OIR
END:VEVENT
BEGIN:VEVENT
DTSTART;VALUE=DATE:20240717
DTEND;VALUE=DATE:20240719
DTSTAMP:20260422T174448
CREATED:20240117T001826Z
LAST-MODIFIED:20240117T234715Z
UID:2761-1721174400-1721347199@ozarksinternationalraceway.com
SUMMARY:OIRs Racing (NASA)Comp School
DESCRIPTION:Racing Comp School
URL:https://ozarksinternationalraceway.com/event/oirs-racing-nasacomp-school/
LOCATION:OIR
ORGANIZER;CN="OIR Comp Race School":MAILTO:info@ozarksinternationalraceway.com
END:VEVENT
BEGIN:VEVENT
DTSTART;VALUE=DATE:20240608
DTEND;VALUE=DATE:20240610
DTSTAMP:20260422T174448
CREATED:20240513T220427Z
LAST-MODIFIED:20240513T220427Z
UID:3004-1717804800-1717977599@ozarksinternationalraceway.com
SUMMARY:PSI Motosports 2 HPDE
DESCRIPTION:Come and Experience one of the best race tracks in the USA. PSI Motorsports USA proudly announces another open track day for Hpde and race car drivers. If you’re looking for a lot of seat time at a new roller coaster-style race track\, don’t miss June 8-9. We will have only 3 groups: advanced\, intermediate\, and beginners. 30-minute sessions will give you over 2.5 hours of track time each day. Our classroom will be available for novice drivers. Come and learn how to drive your sports car on the best driver race track in the country. On Sunday afternoon we will have open track time with no session (depending on a schedule). Test and tune as much as you need ‘till dusk. Free garages for the first 40 participants. So hurry up and get registered! We will have a great time with food and music. This event is just missing you! Laps around the track in a variety of a cars. \n 
URL:https://ozarksinternationalraceway.com/event/psi-motosports-2-hpde/
LOCATION:OIR
ORGANIZER;CN="PSI Motorsports USA":MAILTO:PSImotorsportsUSA@gmail.com
END:VEVENT
BEGIN:VEVENT
DTSTART;VALUE=DATE:20240607
DTEND;VALUE=DATE:20240608
DTSTAMP:20260422T174448
CREATED:20240117T231149Z
LAST-MODIFIED:20240117T231149Z
UID:2775-1717718400-1717804799@ozarksinternationalraceway.com
SUMMARY:RK Rally 2024 SPRING RALLY DETROIT TO OIR
DESCRIPTION:
URL:https://ozarksinternationalraceway.com/event/rk-rally-2024-spring-rally-detroit-to-oir/
LOCATION:OIR
ORGANIZER;CN="RK Ralley":MAILTO:Info@RKRally.com
END:VEVENT
BEGIN:VEVENT
DTSTART;TZID=America/Chicago:20240531T090000
DTEND;TZID=America/Chicago:20240531T170000
DTSTAMP:20260422T174448
CREATED:20240116T234915Z
LAST-MODIFIED:20240116T234915Z
UID:2758-1717146000-1717174800@ozarksinternationalraceway.com
SUMMARY:OIR SCCA Promotors Race Test Day
DESCRIPTION:Race Test Day Presented by OIR
URL:https://ozarksinternationalraceway.com/event/oir-scca-promotors-race-test-day/
LOCATION:OIR
ORGANIZER;CN="Ozarks International Raceway":MAILTO:info@ozarksinternationalraceway.com
END:VEVENT
BEGIN:VEVENT
DTSTART;VALUE=DATE:20240518
DTEND;VALUE=DATE:20240520
DTSTAMP:20260422T174448
CREATED:20230223T211309Z
LAST-MODIFIED:20240117T233942Z
UID:2294-1715990400-1716163199@ozarksinternationalraceway.com
SUMMARY:Chin Track Days
DESCRIPTION:HDPE Drivers Track Day\n         Come Drive With us\nThe “Missouri-Ring”. 22 turn/3.9 mile MAJESTIC LAP!
URL:https://ozarksinternationalraceway.com/event/chin-track-days-3/
LOCATION:OIR
END:VEVENT
BEGIN:VEVENT
DTSTART;VALUE=DATE:20240510
DTEND;VALUE=DATE:20240513
DTSTAMP:20260422T174448
CREATED:20230223T211747Z
LAST-MODIFIED:20240117T234142Z
UID:2297-1715299200-1715558399@ozarksinternationalraceway.com
SUMMARY:Championship Enduro Series Karting
DESCRIPTION:2024 Championship Enduro Series Racing #1
URL:https://ozarksinternationalraceway.com/event/championship-enduro-series-karting/
LOCATION:OIR
ORGANIZER;CN="Kart Racing  USA":MAILTO:david@kcdrayage.com
END:VEVENT
BEGIN:VEVENT
DTSTART;TZID=America/Chicago:20240509T100000
DTEND;TZID=America/Chicago:20240509T123000
DTSTAMP:20260422T174448
CREATED:20240408T174810Z
LAST-MODIFIED:20240408T182010Z
UID:2883-1715248800-1715257800@ozarksinternationalraceway.com
SUMMARY:Ozark Rides Rally Laps at the Track
DESCRIPTION:LAPS AT THE TRACK 2024 – During the Ozark Rides Rally\nLake of the Ozarks Harley Davidson and Ozarks International Raceway has paired up to bring you a truly one of a kind experience. \n 
URL:https://ozarksinternationalraceway.com/event/laps-at-the-track/
LOCATION:OIR
ORGANIZER;CN="Ozarks Rides Rally":MAILTO:ozarkridesrally@lotohd.com
END:VEVENT
BEGIN:VEVENT
DTSTART;VALUE=DATE:20240502
DTEND;VALUE=DATE:20240504
DTSTAMP:20260422T174448
CREATED:20240116T230853Z
LAST-MODIFIED:20240411T194408Z
UID:2746-1714608000-1714780799@ozarksinternationalraceway.com
SUMMARY:Ford Enthusiast Shelby Fest Track Attack and Parade laps
DESCRIPTION:OIR Track Attack And Driver Training \nSpend a day at Ozarks International Raceway in Gravois Mills with the instructors from Gateway Classic Mustang\, BFG\, and Ford. \nIt’s the finest 3.87 mile track in the country. \nBronco and Ford 4×4 Off Road Experience \nBring your Bronco or Ford 4×4 and join us at OIR’s newest attraction. Their 4 mile off road course provides you the opportunity to pilot your way through the woods and encounter sharp turns\, obstacles\, and steep grades. \nParade Laps \nEver dream of driving a road course but don’t think you’re a “track person”?  Sign up to be a part of our parade lap session to be held at 12pm Thursday May 3rd. You must be present at the track by 11am to get checked in.
URL:https://ozarksinternationalraceway.com/event/ford-enthusiast-shelby-fest-track-attack-and-parade-laps/
LOCATION:OIR
END:VEVENT
BEGIN:VEVENT
DTSTART;TZID=America/Chicago:20240426T160000
DTEND;TZID=America/Chicago:20240426T230000
DTSTAMP:20260422T174448
CREATED:20240308T234602Z
LAST-MODIFIED:20240308T234602Z
UID:2817-1714147200-1714172400@ozarksinternationalraceway.com
SUMMARY:Sonic Summer Nights Car Show / MO Best Music Fest
DESCRIPTION:Music LIVE Entertainment.\nSonic Summer Nights Car Show \, Track Cruise
URL:https://ozarksinternationalraceway.com/event/sonic-summer-nights-car-show-mo-best-music-fest/
ORGANIZER;CN="Mo Best/Sonic Summer Nights":MAILTO:hello@missourimagazines.com
END:VEVENT
BEGIN:VEVENT
DTSTART;VALUE=DATE:20240426
DTEND;VALUE=DATE:20240429
DTSTAMP:20260422T174448
CREATED:20240308T225405Z
LAST-MODIFIED:20240329T202119Z
UID:2813-1714089600-1714348799@ozarksinternationalraceway.com
SUMMARY:Kansas City Porsche Club of America
DESCRIPTION:HDPE Track Day\nPCA Club Race \n\n\nDriver’s Education & Club Race\n\n\n\n\n\n\n\n\n\n\n\n\nThis event combines a Club Race with a Driver Education. The PCA DE Program is designed so participants can improve their driving abilities and acquire a better understanding of vehicle dynamics and driving safety. Participants will experience first-hand the capabilities of high performance automobiles in a controlled\, closed-course environment and acquire skills that will enhance safer vehicle operation in all driving situations. \n\n\n\n\n\n\n\n\n\n\n 
URL:https://ozarksinternationalraceway.com/event/kansas-city-porsche-club-of-america/
LOCATION:OIR
END:VEVENT
END:VCALENDAR