BEGIN:VCALENDAR
VERSION:2.0
PRODID:-//Ozarks International Raceway - ECPv6.15.20//NONSGML v1.0//EN
CALSCALE:GREGORIAN
METHOD:PUBLISH
X-WR-CALNAME:Ozarks International Raceway
X-ORIGINAL-URL:https://ozarksinternationalraceway.com
X-WR-CALDESC:Events for Ozarks International Raceway
REFRESH-INTERVAL;VALUE=DURATION:PT1H
X-Robots-Tag:noindex
X-PUBLISHED-TTL:PT1H
BEGIN:VTIMEZONE
TZID:America/Chicago
BEGIN:DAYLIGHT
TZOFFSETFROM:-0600
TZOFFSETTO:-0500
TZNAME:CDT
DTSTART:20240310T080000
END:DAYLIGHT
BEGIN:STANDARD
TZOFFSETFROM:-0500
TZOFFSETTO:-0600
TZNAME:CST
DTSTART:20241103T070000
END:STANDARD
BEGIN:DAYLIGHT
TZOFFSETFROM:-0600
TZOFFSETTO:-0500
TZNAME:CDT
DTSTART:20250309T080000
END:DAYLIGHT
BEGIN:STANDARD
TZOFFSETFROM:-0500
TZOFFSETTO:-0600
TZNAME:CST
DTSTART:20251102T070000
END:STANDARD
BEGIN:DAYLIGHT
TZOFFSETFROM:-0600
TZOFFSETTO:-0500
TZNAME:CDT
DTSTART:20260308T080000
END:DAYLIGHT
BEGIN:STANDARD
TZOFFSETFROM:-0500
TZOFFSETTO:-0600
TZNAME:CST
DTSTART:20261101T070000
END:STANDARD
END:VTIMEZONE
BEGIN:VEVENT
DTSTART;VALUE=DATE:20250809
DTEND;VALUE=DATE:20250811
DTSTAMP:20260422T062716
CREATED:20250110T204814Z
LAST-MODIFIED:20250804T222957Z
UID:3291-1754697600-1754870399@ozarksinternationalraceway.com
SUMMARY:ChampCar Endurance Series Show-Me State Showdown
DESCRIPTION:ChampCar Endurance Series is excited to present the Show-Me State Showdown August 9-10. An endurance racing series for racers without significant prices\, or rulebooks to follow. There will be an 8 hour endurance race on Saturday and a 7 hour endurance race on Sunday. Both races will start at 9 AM. \nEntry List
URL:https://ozarksinternationalraceway.com/event/champcar-endurance-series-show-me-state-showdown/
LOCATION:OIR
CATEGORIES:ChampCar Endurance Series,Racing
ATTACH;FMTTYPE=image/png:https://ozarksinternationalraceway.com/wp-content/uploads/2025/01/ChampCar-Cover.png
ORGANIZER;CN="ChampCar Endurance Series":MAILTO:media@champcar.com
END:VEVENT
BEGIN:VEVENT
DTSTART;TZID=America/Chicago:20250821T090000
DTEND;TZID=America/Chicago:20250821T130000
DTSTAMP:20260422T062716
CREATED:20250722T192405Z
LAST-MODIFIED:20250722T192405Z
UID:3688-1755766800-1755781200@ozarksinternationalraceway.com
SUMMARY:Cannonball Run Challenge
DESCRIPTION:Get ready to put the pedal to the metal at Ozarks International Raceway! 🏁\nJoin us for the Cannonball Run OIR Challenge on August 21st — where you can race your own car\, support local charities\, and be part of something epic!\n\nSign Up Form
URL:https://ozarksinternationalraceway.com/event/cannonball-run-challenge/
LOCATION:OIR
CATEGORIES:HPDE Track Time
ATTACH;FMTTYPE=image/png:https://ozarksinternationalraceway.com/wp-content/uploads/2024/08/27.png
ORGANIZER;CN="Cannonball Run":MAILTO:captainronscannonballrun@gmail.com
END:VEVENT
BEGIN:VEVENT
DTSTART;VALUE=DATE:20250822
DTEND;VALUE=DATE:20250825
DTSTAMP:20260422T062716
CREATED:20241108T201015Z
LAST-MODIFIED:20250729T224000Z
UID:3216-1755820800-1756079999@ozarksinternationalraceway.com
SUMMARY:PSI Motorsports Track Day #3 with NIGHT SESSION
DESCRIPTION:Join PSI Motorsports USA for our third event of the season at Ozarks International Raceway – one of the most technical and exciting road courses in the U.S. \nThis 3-day High Performance Driver Experience (HPDE) weekend is open to all experience levels. Whether you’re a beginner or a seasoned racer\, we’ve got a spot for you. \nFriday Night Driving – A PSI Exclusive \nWe’re proud to be the only HPDE group offering night sessions at Ozarks. Friday evening will feature a custom lighting setup for safe\, exciting laps after dark. Cooler temps\, unique visual conditions\, and a totally different vibe – this is a driving experience you won’t find anywhere else. \nEvent Details: \n\nDates: August 22–24\, 2025 (Friday\, Saturday & Sunday)\nWe’ll be on track:\nFriday: 1:00 PM – 10:00 PM\nSaturday & Sunday: 10:00 AM – 7:00 PM\n\nNASA 25 Hour drivers should take advantage of this chance to learn OIR at night. Another opportunity to get on track with your high performance automobile as a novice or pro driver. \n\n\nRide along and multiple car rental opportunities are available this weekend as well.\n\nHagerty MotorsportReg Link
URL:https://ozarksinternationalraceway.com/event/psi-motorsports-3-2025-2/
LOCATION:OIR
CATEGORIES:HPDE Track Time,Night Running,PSI Motorsports USA
ATTACH;FMTTYPE=image/png:https://ozarksinternationalraceway.com/wp-content/uploads/2024/08/50.png
ORGANIZER;CN="PSI Motorsports USA":MAILTO:PSImotorsportsUSA@gmail.com
END:VEVENT
BEGIN:VEVENT
DTSTART;VALUE=DATE:20250830
DTEND;VALUE=DATE:20250901
DTSTAMP:20260422T062716
CREATED:20241130T061958Z
LAST-MODIFIED:20250319T145908Z
UID:3254-1756512000-1756684799@ozarksinternationalraceway.com
SUMMARY:Chin Track Days
DESCRIPTION:Chins Gold Standard High Performance Track Days\nHDPE (all makes welcome)\nThe “Missouri-Ring”! YOU. MUST. DRIVE. THIS. TRACK.
URL:https://ozarksinternationalraceway.com/event/chin-track-days-2-2/
LOCATION:OIR
CATEGORIES:Chin Track Days,HPDE Track Time
ATTACH;FMTTYPE=image/png:https://ozarksinternationalraceway.com/wp-content/uploads/2024/09/31.png
END:VEVENT
END:VCALENDAR