BEGIN:VCALENDAR
VERSION:2.0
PRODID:-//Ozarks International Raceway - ECPv6.15.20//NONSGML v1.0//EN
CALSCALE:GREGORIAN
METHOD:PUBLISH
X-WR-CALNAME:Ozarks International Raceway
X-ORIGINAL-URL:https://ozarksinternationalraceway.com
X-WR-CALDESC:Events for Ozarks International Raceway
REFRESH-INTERVAL;VALUE=DURATION:PT1H
X-Robots-Tag:noindex
X-PUBLISHED-TTL:PT1H
BEGIN:VTIMEZONE
TZID:America/Chicago
BEGIN:DAYLIGHT
TZOFFSETFROM:-0600
TZOFFSETTO:-0500
TZNAME:CDT
DTSTART:20240310T080000
END:DAYLIGHT
BEGIN:STANDARD
TZOFFSETFROM:-0500
TZOFFSETTO:-0600
TZNAME:CST
DTSTART:20241103T070000
END:STANDARD
BEGIN:DAYLIGHT
TZOFFSETFROM:-0600
TZOFFSETTO:-0500
TZNAME:CDT
DTSTART:20250309T080000
END:DAYLIGHT
BEGIN:STANDARD
TZOFFSETFROM:-0500
TZOFFSETTO:-0600
TZNAME:CST
DTSTART:20251102T070000
END:STANDARD
BEGIN:DAYLIGHT
TZOFFSETFROM:-0600
TZOFFSETTO:-0500
TZNAME:CDT
DTSTART:20260308T080000
END:DAYLIGHT
BEGIN:STANDARD
TZOFFSETFROM:-0500
TZOFFSETTO:-0600
TZNAME:CST
DTSTART:20261101T070000
END:STANDARD
END:VTIMEZONE
BEGIN:VEVENT
DTSTART;VALUE=DATE:20251003
DTEND;VALUE=DATE:20251006
DTSTAMP:20260422T063640
CREATED:20241130T063627Z
LAST-MODIFIED:20250929T153650Z
UID:3265-1759449600-1759708799@ozarksinternationalraceway.com
SUMMARY:Kart Racing U.S.A.
DESCRIPTION:Kart Racing U.S.A. Stop 2\ndriver pit pass 25.00\nnon driver fee are 20.00\nnon driver 5-11 years of age are 15.00\nunder 5 years old are free
URL:https://ozarksinternationalraceway.com/event/kart-racing-u-s-a-2/
LOCATION:OIR
CATEGORIES:Kart Racing U.S.A,Racing
ATTACH;FMTTYPE=image/png:https://ozarksinternationalraceway.com/wp-content/uploads/2024/08/10.png
ORGANIZER;CN="Kart Racing USA":MAILTO:racewithkart@yahoo.com
END:VEVENT
BEGIN:VEVENT
DTSTART;TZID=America/Chicago:20251009T090000
DTEND;TZID=America/Chicago:20251009T170000
DTSTAMP:20260422T063640
CREATED:20240118T002645Z
LAST-MODIFIED:20241130T191641Z
UID:2787-1760000400-1760029200@ozarksinternationalraceway.com
SUMMARY:OIR Vintage Fest Race Test & Tune Day
DESCRIPTION:Racers Test & Tune Day
URL:https://ozarksinternationalraceway.com/event/oir-vintage-fest-race-test-tune-day/
LOCATION:OIR
ORGANIZER;CN="Ozarks International Raceway":MAILTO:info@ozarksinternationalraceway.com
END:VEVENT
BEGIN:VEVENT
DTSTART;VALUE=DATE:20251010
DTEND;VALUE=DATE:20251013
DTSTAMP:20260422T063640
CREATED:20230223T212039Z
LAST-MODIFIED:20241213T200949Z
UID:2299-1760054400-1760313599@ozarksinternationalraceway.com
SUMMARY:VSCDA Ozarks Vintage Festival 2025
DESCRIPTION:VSDA Ozarks Vintage Festival is back in 2025!!\nA blast from the past seeing vintage racing machines from the 60s\, 70s\, and 80s go head to head at Ozarks International Raceway. \n 
URL:https://ozarksinternationalraceway.com/event/vscda-ozarks-vintage-festival/
LOCATION:OIR
CATEGORIES:Racing,VSCDA
ATTACH;FMTTYPE=image/webp:https://ozarksinternationalraceway.com/wp-content/uploads/2024/10/VSCDA.webp
ORGANIZER;CN="Vintage Sports Car Drivers Association":MAILTO:vscda@vscda.org
END:VEVENT
BEGIN:VEVENT
DTSTART;VALUE=DATE:20251017
DTEND;VALUE=DATE:20251020
DTSTAMP:20260422T063640
CREATED:20241028T211806Z
LAST-MODIFIED:20251008T204108Z
UID:3206-1760659200-1760918399@ozarksinternationalraceway.com
SUMMARY:NASA MidAmerica Ozarks Grand Prix & Regional Champs
DESCRIPTION:NASA MidAmerica season finale is once again at OIR with the Ozarks Grand Prix & Regional Championships. \nHigh Performance Driver Education\nTime Trial\nW2W Sanctioned Racing\nTrack and Test Day on Friday\nBanquet and Championship Podium Celebration Saturday Night\nThis is it! What we all worked for all season. Don’t miss this event. Last chance this season to hone your driving skills with NASA’s amazing HPDE program. Hands down the best place to learn to track and race your car in the US. Competitive groups are large at this event. Championship and Event Awards Banquet will be held Saturday Night! \nDates: October 17-19\, 2025
URL:https://ozarksinternationalraceway.com/event/nasa-midamerica-2025-3/
LOCATION:OIR
CATEGORIES:HPDE Track Time,NASA MidAmerica,Racing
ATTACH;FMTTYPE=image/jpeg:https://ozarksinternationalraceway.com/wp-content/uploads/2024/03/DSC02644-UPDATE-scaled.jpg
END:VEVENT
BEGIN:VEVENT
DTSTART;VALUE=DATE:20251025
DTEND;VALUE=DATE:20251027
DTSTAMP:20260422T063640
CREATED:20241108T211040Z
LAST-MODIFIED:20241108T211040Z
UID:3221-1761350400-1761523199@ozarksinternationalraceway.com
SUMMARY:PSI Motorsports 4 Track Days
DESCRIPTION:PSI Motorsports stop 4 is their final time to get on track in the 2025 season. Don’t miss out on some great track time opportunity.
URL:https://ozarksinternationalraceway.com/event/psi-motorsports-4-2025/
LOCATION:OIR
CATEGORIES:HPDE Track Time,PSI Motorsports USA
ATTACH;FMTTYPE=image/png:https://ozarksinternationalraceway.com/wp-content/uploads/2024/08/19.png
ORGANIZER;CN="PSI Motorsports USA":MAILTO:PSImotorsportsUSA@gmail.com
END:VEVENT
END:VCALENDAR