BEGIN:VCALENDAR
VERSION:2.0
PRODID:-//Ozarks International Raceway - ECPv6.15.20//NONSGML v1.0//EN
CALSCALE:GREGORIAN
METHOD:PUBLISH
X-WR-CALNAME:Ozarks International Raceway
X-ORIGINAL-URL:https://ozarksinternationalraceway.com
X-WR-CALDESC:Events for Ozarks International Raceway
REFRESH-INTERVAL;VALUE=DURATION:PT1H
X-Robots-Tag:noindex
X-PUBLISHED-TTL:PT1H
BEGIN:VTIMEZONE
TZID:America/Chicago
BEGIN:DAYLIGHT
TZOFFSETFROM:-0600
TZOFFSETTO:-0500
TZNAME:CDT
DTSTART:20240310T080000
END:DAYLIGHT
BEGIN:STANDARD
TZOFFSETFROM:-0500
TZOFFSETTO:-0600
TZNAME:CST
DTSTART:20241103T070000
END:STANDARD
BEGIN:DAYLIGHT
TZOFFSETFROM:-0600
TZOFFSETTO:-0500
TZNAME:CDT
DTSTART:20250309T080000
END:DAYLIGHT
BEGIN:STANDARD
TZOFFSETFROM:-0500
TZOFFSETTO:-0600
TZNAME:CST
DTSTART:20251102T070000
END:STANDARD
BEGIN:DAYLIGHT
TZOFFSETFROM:-0600
TZOFFSETTO:-0500
TZNAME:CDT
DTSTART:20260308T080000
END:DAYLIGHT
BEGIN:STANDARD
TZOFFSETFROM:-0500
TZOFFSETTO:-0600
TZNAME:CST
DTSTART:20261101T070000
END:STANDARD
END:VTIMEZONE
BEGIN:VEVENT
DTSTART;TZID=America/Chicago:20250726T080000
DTEND;TZID=America/Chicago:20250727T170000
DTSTAMP:20260424T214818
CREATED:20241130T061458Z
LAST-MODIFIED:20250630T141216Z
UID:3250-1753516800-1753635600@ozarksinternationalraceway.com
SUMMARY:Ozarks Speedfest feat. Evolve GT & Precision Drift
DESCRIPTION:Precision Drift and Evolve GT have partnered up to host the ultimate weekend for drivers\, riders\, and spectators and deliver a one of a kind motorsports experience\, just 15 minutes from the lake!\nJULY 26-27\nSPECTATORS:-$30 weekend pass/$20 daily pass at the gate only. Kids 12 & under FREE\n-Full trackside access to witness 150+ mph sportbikes on the outer loop -Live Music + Bar  Saturday Night-Top 16 Drift Competition w/ Payout Saturday Night-Drift Car Passenger Ride-Along Experiences (Visit Precision Drift Merch Booth on site for a free ride-along wristband. Bring your own helmet!)-Sonic Summer Nights Car Show + Race Track Parade Laps ($10 for anyone who would like to drive their personal vehicle on the track! Please visit Precision Drift Merch Booth on site for a ticket)-Food Trucks -RV Hookups (Please email info@ozarksinternationalraceway.com to reserve)-On-Site Camping + Air-Conditioned Bathrooms ($25 camping fee\, no reservation required)-See Event Map in discussion tab\nSPECTATORS SCHEDULE:\nSaturday:9AM – Gates Open9AM – Track HOT (Bikes)10AM – Track HOT (Drift)3PM – Sonic Summer Nights Car Show 430PM – Race Track Parade Laps530PM – Top 16 Drift Competition730PM – Live Music + Bar w/ The Cowardly Lions KC1030PM – Gates Close\nSunday:8AM – Gates Open9AM – Track HOT4PM – Gates Close\n\n\n 
URL:https://ozarksinternationalraceway.com/event/evolve-gt-precision-drift/
CATEGORIES:Evolve GT,HPDE Track Time,Precision DRIFT
ORGANIZER;CN="Evolve GT":MAILTO:support@evolvegt.com
END:VEVENT
END:VCALENDAR