BEGIN:VCALENDAR
VERSION:2.0
PRODID:-//Ozarks International Raceway - ECPv6.15.20//NONSGML v1.0//EN
CALSCALE:GREGORIAN
METHOD:PUBLISH
X-WR-CALNAME:Ozarks International Raceway
X-ORIGINAL-URL:https://ozarksinternationalraceway.com
X-WR-CALDESC:Events for Ozarks International Raceway
REFRESH-INTERVAL;VALUE=DURATION:PT1H
X-Robots-Tag:noindex
X-PUBLISHED-TTL:PT1H
BEGIN:VTIMEZONE
TZID:America/Chicago
BEGIN:DAYLIGHT
TZOFFSETFROM:-0600
TZOFFSETTO:-0500
TZNAME:CDT
DTSTART:20250309T080000
END:DAYLIGHT
BEGIN:STANDARD
TZOFFSETFROM:-0500
TZOFFSETTO:-0600
TZNAME:CST
DTSTART:20251102T070000
END:STANDARD
BEGIN:DAYLIGHT
TZOFFSETFROM:-0600
TZOFFSETTO:-0500
TZNAME:CDT
DTSTART:20260308T080000
END:DAYLIGHT
BEGIN:STANDARD
TZOFFSETFROM:-0500
TZOFFSETTO:-0600
TZNAME:CST
DTSTART:20261101T070000
END:STANDARD
BEGIN:DAYLIGHT
TZOFFSETFROM:-0600
TZOFFSETTO:-0500
TZNAME:CDT
DTSTART:20270314T080000
END:DAYLIGHT
BEGIN:STANDARD
TZOFFSETFROM:-0500
TZOFFSETTO:-0600
TZNAME:CST
DTSTART:20271107T070000
END:STANDARD
END:VTIMEZONE
BEGIN:VEVENT
DTSTART;VALUE=DATE:20260522
DTEND;VALUE=DATE:20260525
DTSTAMP:20260424T084838
CREATED:20260108T201805Z
LAST-MODIFIED:20260417T061246Z
UID:3826-1779408000-1779667199@ozarksinternationalraceway.com
SUMMARY:Ponies in the Ozarks MCA National Car Show 2026
DESCRIPTION:REGISTRATION LINK\n\nCome join us for the 5th Annual Ponies in the Ozarks Memorial Day weekend presented to you by the MCA. This is a judged national show with a two-day track event. We have added several fun activities this year that we are excited about!\n \nPoker Run:\nThis year we are adding a poker run to the activities. Hands are $35 each and can be purchased below in the registration form. There will be 5 stops on the run and a picture will be required at each stop to get your 5 cards.\n\nFriday Night Boat Cruise: \nCome join us on Celebration Cruises at the Bagnell Dam Strip May 22\, 2026\, for a 2-hour lake cruise and dinner. You’ll experience a unique\, and enjoyable cruise while viewing the beautiful homes and scenery\, on Lake of the Ozarks. You will enjoy a yachting experience and atmosphere with unsurpassed service from the professional crew.\nBoarding will start at 6:00PM with the boat leaving the dock at 6:30PM. Dinner will be a Country Buffet with Fried Chicken\, Pork Loin\, Mashed Potatoes and Gravy\, Veggie Medley\, Dinner Roll and Cheesecake for dessert. The cost for the cruise and dinner is $75 per person. Tickets can be purchased below. \nSaturday Night Social – BBQ at the track:\nSaturday May 23\, 2026\, 5:30PM – 6:30PM we will host a social at the track. Beef and pork and two sides will be served. Cost is $26 per person\, buy your tickets below.\n\nTRACK REGISTRATION:\n \nRegistration for the track event can be found at Motorsport.reg.  Please direct your track questions to driving@mcaclub.org.  \n\n\n\nREGISTRATION CLOSE DATE AND REFUND DEADLINE:\n\n****Show registration will close at midnight (EST) May 2\, 2026.\n****Refund requests must be received in writing by midnight (EST) May 2\, 2026.\n\n\nAll refund requests must be received in writing (email mcaofficeadministrator@mustang.org\, (Show Registrar) by midnight (EST) May 2\, 2026. Requests received after this date will be reviewed on a case-by-case basis.\nA refund of the registration fee minus credit card fees\, pre-ordered merchandise and postage will be issued. Refunds are paid by PayPal or check.\nRefund will be issued 4-6 weeks after approved request.\n\nRegistration questions or issues should be addressed to Debbie at mcaofficeadministrator@mustang.org.
URL:https://ozarksinternationalraceway.com/event/ponies-in-the-ozarks-2026/
LOCATION:OIR
CATEGORIES:HPDE Track Time,Mustang Club of America
ATTACH;FMTTYPE=image/jpeg:https://ozarksinternationalraceway.com/wp-content/uploads/2025/06/17.jpg
ORGANIZER;CN="Mustang Club of America":MAILTO:mcaofficeadministrator@mustang.org
END:VEVENT
END:VCALENDAR