BEGIN:VCALENDAR
VERSION:2.0
PRODID:-//Ozarks International Raceway - ECPv6.15.20//NONSGML v1.0//EN
CALSCALE:GREGORIAN
METHOD:PUBLISH
X-WR-CALNAME:Ozarks International Raceway
X-ORIGINAL-URL:https://ozarksinternationalraceway.com
X-WR-CALDESC:Events for Ozarks International Raceway
REFRESH-INTERVAL;VALUE=DURATION:PT1H
X-Robots-Tag:noindex
X-PUBLISHED-TTL:PT1H
BEGIN:VTIMEZONE
TZID:America/Chicago
BEGIN:DAYLIGHT
TZOFFSETFROM:-0600
TZOFFSETTO:-0500
TZNAME:CDT
DTSTART:20250309T080000
END:DAYLIGHT
BEGIN:STANDARD
TZOFFSETFROM:-0500
TZOFFSETTO:-0600
TZNAME:CST
DTSTART:20251102T070000
END:STANDARD
BEGIN:DAYLIGHT
TZOFFSETFROM:-0600
TZOFFSETTO:-0500
TZNAME:CDT
DTSTART:20260308T080000
END:DAYLIGHT
BEGIN:STANDARD
TZOFFSETFROM:-0500
TZOFFSETTO:-0600
TZNAME:CST
DTSTART:20261101T070000
END:STANDARD
BEGIN:DAYLIGHT
TZOFFSETFROM:-0600
TZOFFSETTO:-0500
TZNAME:CDT
DTSTART:20270314T080000
END:DAYLIGHT
BEGIN:STANDARD
TZOFFSETFROM:-0500
TZOFFSETTO:-0600
TZNAME:CST
DTSTART:20271107T070000
END:STANDARD
END:VTIMEZONE
BEGIN:VEVENT
DTSTART;VALUE=DATE:20260327
DTEND;VALUE=DATE:20260330
DTSTAMP:20260417T194258
CREATED:20251230T230451Z
LAST-MODIFIED:20251230T231540Z
UID:3818-1774569600-1774828799@ozarksinternationalraceway.com
SUMMARY:Race to the 25 T+6+5
DESCRIPTION:All Cars Welcome\nYour Race to the NASA 25 Hours of Ozarks starts here!!\nThis T+6+5 endurance race will start you on the right track to the 25 or simply be fun endurance race for your team! \nWe’ll have a full test day and a night practice.\n6 Classes\nHYC — (Hypercar) \nFastest class\, no limits on modifications. NASA Super Unlimited rules apply. \nPLE — (Prototype Lite Endurance) \nSame rules as HYC. Vehicles are restricted to having less than 2.5 liters displacement naturally aspirated\, or 1.3 liters with forced induction. \nGTE — (Grand Touring Endurance) \nUses NASA Super Touring GT rules. Unlimited modifications for GT style cars. \nSTE — (Super Touring Endurance) \nUses NASA Super Touring 2 rules. \nTC1 —  (Touring Car 1) \nUses NASA Super Touring 4 rules. \nTC2 — (Touring Car 2) \nUses NASA Super Touring 5 rules. \nNASA 25 Hours Event Page \nNASA 25 Hour Rules Apply\n2026 NASA Endurance Rules \n 
URL:https://ozarksinternationalraceway.com/event/race-to-the-25/
LOCATION:OIR
CATEGORIES:NASA MidAmerica,Racing
ATTACH;FMTTYPE=image/jpeg:https://ozarksinternationalraceway.com/wp-content/uploads/2025/04/33.jpg
END:VEVENT
END:VCALENDAR